BEGIN:VCALENDAR
METHOD:PUBLISH
PRODID:www-zfl-fau-de//Events//DE
VERSION:2.0
BEGIN:VEVENT
SUMMARY:Lehramtsbezogener Masterstudiengang Gymnasium M. Ed. - Themen-
 Sprechstunde | LA GYM
UID:baa3-e0fe-d48f-2944@www.zfl.fau.de
DESCRIPTION:Sie interessieren sich für den Lehramtsbezogenen Masterst
 udiengang Gymnasium M. Ed. der FAU? Hier können Sie in Einzelgespräc
 hen Ihre persönlichen Fragen klären. Wir rufen Sie der Reihe nach au
 s dem Zoom-Warteraum auf. Bitte planen Sie ggf. ein wenig Wartezeit mi
 t ein.
DTSTART:20260515T073000Z
DTEND:20260515T081500Z
DTSTAMP:20260422T231139Z
END:VEVENT
END:VCALENDAR